BEGIN:VCALENDAR
VERSION:2.0
PRODID:-//Fröhliches Frohnhardt e.V. - ECPv6.15.20//NONSGML v1.0//EN
CALSCALE:GREGORIAN
METHOD:PUBLISH
X-WR-CALNAME:Fröhliches Frohnhardt e.V.
X-ORIGINAL-URL:https://froehliches-frohnhardt.de
X-WR-CALDESC:Veranstaltungen für Fröhliches Frohnhardt e.V.
REFRESH-INTERVAL;VALUE=DURATION:PT1H
X-Robots-Tag:noindex
X-PUBLISHED-TTL:PT1H
BEGIN:VTIMEZONE
TZID:Europe/Berlin
BEGIN:DAYLIGHT
TZOFFSETFROM:+0100
TZOFFSETTO:+0200
TZNAME:CEST
DTSTART:20230326T010000
END:DAYLIGHT
BEGIN:STANDARD
TZOFFSETFROM:+0200
TZOFFSETTO:+0100
TZNAME:CET
DTSTART:20231029T010000
END:STANDARD
BEGIN:DAYLIGHT
TZOFFSETFROM:+0100
TZOFFSETTO:+0200
TZNAME:CEST
DTSTART:20240331T010000
END:DAYLIGHT
BEGIN:STANDARD
TZOFFSETFROM:+0200
TZOFFSETTO:+0100
TZNAME:CET
DTSTART:20241027T010000
END:STANDARD
BEGIN:DAYLIGHT
TZOFFSETFROM:+0100
TZOFFSETTO:+0200
TZNAME:CEST
DTSTART:20250330T010000
END:DAYLIGHT
BEGIN:STANDARD
TZOFFSETFROM:+0200
TZOFFSETTO:+0100
TZNAME:CET
DTSTART:20251026T010000
END:STANDARD
END:VTIMEZONE
BEGIN:VEVENT
DTSTART;TZID=Europe/Berlin:20240309T130000
DTEND;TZID=Europe/Berlin:20240309T190000
DTSTAMP:20260421T113638
CREATED:20240218T133331Z
LAST-MODIFIED:20240226T184959Z
UID:1368-1709989200-1710010800@froehliches-frohnhardt.de
SUMMARY:Teilnahme am Ehrenamtstag
DESCRIPTION:Wir präsentiere unser Fröhliches Frohnhardt dieses Jahr auf dem Ehrenamtstag am 09. März 2024 ab 13:00 Uhr. Denn damit wir uns als Karnevals- und Bürgergemeinschaft mit Herz- und Frohsinn präsentieren können\, und unser gemütliches Dorf lebenswert gestellten können\, braucht es Engagement und Ehrenamt. \nGanz unser dem Motto: „Für mein Dorf mache ich…“ sind wir für euch an unserem Stand präsent. Wir freuen uns auf tolle Gespräche und einen schönen Austausch. \nUm 14:00 Uhr nimmt unser Vorsitzender Marcel an der Podiumsgespräch zum Thema „Engagement im Wandel“ teil. Wir sind gespannt\, denn auch in Frohnhardt vollziet sich gerade ein sehr positiver Wandel\, hin zu einer Dorfgemeinschaft die für einander da ist! Seid gespannt! \nDer Eintritt ist frei.\nWeitere Informationen könnt ihr auch gerne dem Flyer des „Forum Ehrenamt – Freiwilligenagentur für Königswinter und Umgebung“ entnehmen \nFlyer Ehrenamtstag \n 
URL:https://froehliches-frohnhardt.de/event/teilnahme-am-ehrenamtstag
LOCATION:CJD Königswinter\, Cleethorpeser Platz 12\, Königswinter\, 53639\, Deutschland
ATTACH;FMTTYPE=image/png:https://froehliches-frohnhardt.de/wp-content/uploads/2024/02/Ehrenamtstag.png
END:VEVENT
BEGIN:VEVENT
DTSTART;TZID=Europe/Berlin:20240317T120000
DTEND;TZID=Europe/Berlin:20240317T170000
DTSTAMP:20260421T113638
CREATED:20240127T145016Z
LAST-MODIFIED:20240129T143107Z
UID:1335-1710676800-1710694800@froehliches-frohnhardt.de
SUMMARY:Sauberhaftes Königswinter: Frühjahrsputz 2024
DESCRIPTION:Auch in diesem Jahr wollen wir wieder rund um Frohnhardt aufräumen und sauber machen. Desswegen beteiligen wir uns erneut im Rahmen der Frühjahrsputz-Aktion der Stadt Königswinter für ein „sauberhaftes“ Königswinter!\nUnser kleines Heimatkaff liegt uns allen sehr am Herzen – Und da räumen wir doch gerne auf! \nIm Anschluss freuen wir uns die fleißigen Helferinnen und Helfer auf eine Bratwurst im Brötchen einzuladen. \nLos geht’s um 12:00 Uhr auf dem Frohnhardter Dorfplatz. Für Müllsäcke und Zangen werden wir sogen. \nEin paar Eindrücke von unserer Aktion im letzten Jahr gibt es hier👈🏻
URL:https://froehliches-frohnhardt.de/event/fruehjahrsputz-2024
LOCATION:Dorfplatz\, Frohnhardter Str\, Frohnhardt\, 53639\, Deutschland
CATEGORIES:Dorfleben
ATTACH;FMTTYPE=image/png:https://froehliches-frohnhardt.de/wp-content/uploads/2024/01/Fruehjahrsputz-Quadratisch.png
END:VEVENT
END:VCALENDAR