BEGIN:VCALENDAR
VERSION:2.0
PRODID:-//Fröhliches Frohnhardt e.V. - ECPv6.15.20//NONSGML v1.0//EN
CALSCALE:GREGORIAN
METHOD:PUBLISH
X-WR-CALNAME:Fröhliches Frohnhardt e.V.
X-ORIGINAL-URL:https://froehliches-frohnhardt.de
X-WR-CALDESC:Veranstaltungen für Fröhliches Frohnhardt e.V.
REFRESH-INTERVAL;VALUE=DURATION:PT1H
X-Robots-Tag:noindex
X-PUBLISHED-TTL:PT1H
BEGIN:VTIMEZONE
TZID:Europe/Berlin
BEGIN:DAYLIGHT
TZOFFSETFROM:+0100
TZOFFSETTO:+0200
TZNAME:CEST
DTSTART:20250330T010000
END:DAYLIGHT
BEGIN:STANDARD
TZOFFSETFROM:+0200
TZOFFSETTO:+0100
TZNAME:CET
DTSTART:20251026T010000
END:STANDARD
BEGIN:DAYLIGHT
TZOFFSETFROM:+0100
TZOFFSETTO:+0200
TZNAME:CEST
DTSTART:20260329T010000
END:DAYLIGHT
BEGIN:STANDARD
TZOFFSETFROM:+0200
TZOFFSETTO:+0100
TZNAME:CET
DTSTART:20261025T010000
END:STANDARD
BEGIN:DAYLIGHT
TZOFFSETFROM:+0100
TZOFFSETTO:+0200
TZNAME:CEST
DTSTART:20270328T010000
END:DAYLIGHT
BEGIN:STANDARD
TZOFFSETFROM:+0200
TZOFFSETTO:+0100
TZNAME:CET
DTSTART:20271031T010000
END:STANDARD
END:VTIMEZONE
BEGIN:VEVENT
DTSTART;TZID=Europe/Berlin:20260419T120000
DTEND;TZID=Europe/Berlin:20260419T160000
DTSTAMP:20260421T101620
CREATED:20260225T151927Z
LAST-MODIFIED:20260301T164926Z
UID:3688-1776600000-1776614400@froehliches-frohnhardt.de
SUMMARY:Frühjahrsputz in Frohnhardt
DESCRIPTION:Auch 2026 packen wir wieder gemeinsam an und machen Frohnhardt ein Stück sauberer – weil uns unser Dorf am Herzen liegt. Treffpunkt ist am Dorfplatz; Müllsäcke und Zangen stellen wir bereit. Danach lassen wir den Einsatz in guter Gesellschaft entspannt ausklingen.
URL:https://froehliches-frohnhardt.de/event/fruehjahrsputz-in-frohnhardt-2026
LOCATION:Frohnhardt\, Königswinter-Frohnhardt\, 53639\, Deutschland
ATTACH;FMTTYPE=image/png:https://froehliches-frohnhardt.de/wp-content/uploads/2026/02/Beitragsbild.png
ORGANIZER;CN="Fr%C3%B6hliches Frohnhardt e.V.":MAILTO:verein@froehliches-frohnhardt.de
END:VEVENT
END:VCALENDAR