BEGIN:VCALENDAR
VERSION:2.0
PRODID:-//Fröhliches Frohnhardt e.V. - ECPv6.15.20//NONSGML v1.0//EN
CALSCALE:GREGORIAN
METHOD:PUBLISH
X-ORIGINAL-URL:https://froehliches-frohnhardt.de
X-WR-CALDESC:Veranstaltungen für Fröhliches Frohnhardt e.V.
REFRESH-INTERVAL;VALUE=DURATION:PT1H
X-Robots-Tag:noindex
X-PUBLISHED-TTL:PT1H
BEGIN:VTIMEZONE
TZID:Europe/Berlin
BEGIN:DAYLIGHT
TZOFFSETFROM:+0100
TZOFFSETTO:+0200
TZNAME:CEST
DTSTART:20230326T010000
END:DAYLIGHT
BEGIN:STANDARD
TZOFFSETFROM:+0200
TZOFFSETTO:+0100
TZNAME:CET
DTSTART:20231029T010000
END:STANDARD
BEGIN:DAYLIGHT
TZOFFSETFROM:+0100
TZOFFSETTO:+0200
TZNAME:CEST
DTSTART:20240331T010000
END:DAYLIGHT
BEGIN:STANDARD
TZOFFSETFROM:+0200
TZOFFSETTO:+0100
TZNAME:CET
DTSTART:20241027T010000
END:STANDARD
BEGIN:DAYLIGHT
TZOFFSETFROM:+0100
TZOFFSETTO:+0200
TZNAME:CEST
DTSTART:20250330T010000
END:DAYLIGHT
BEGIN:STANDARD
TZOFFSETFROM:+0200
TZOFFSETTO:+0100
TZNAME:CET
DTSTART:20251026T010000
END:STANDARD
END:VTIMEZONE
BEGIN:VEVENT
DTSTART;TZID=Europe/Berlin:20240908T120000
DTEND;TZID=Europe/Berlin:20240908T180000
DTSTAMP:20260422T113030
CREATED:20240720T054027Z
LAST-MODIFIED:20240720T054027Z
UID:1721-1725796800-1725818400@froehliches-frohnhardt.de
SUMMARY:Straßen- und Garagenflohmarkt Frohnhardt
DESCRIPTION:Unser Verein Fröhliches Frohnhardt hat am Sonntag\, 08. September 2024 einen Garagenflohmarkt in Leben gerufen. Frohnhardter Anwohner verkaufen Ihre privaten Schätze aus den Garagen und Dachböden an Interessierte Schnäppchenjäger und „Bares für Rares“-Fans.
URL:https://froehliches-frohnhardt.de/event/strassen-und-garagenflohmarkt-frohnhardt
LOCATION:Frohnhardt\, Königswinter-Frohnhardt\, 53639\, Deutschland
CATEGORIES:Dorfleben
ATTACH;FMTTYPE=image/png:https://froehliches-frohnhardt.de/wp-content/uploads/2024/07/Flohmarkt-querformat.png
ORGANIZER;CN="Fr%C3%B6hliches Frohnhardt e.V.":MAILTO:verein@froehliches-frohnhardt.de
END:VEVENT
END:VCALENDAR