BEGIN:VCALENDAR
VERSION:2.0
PRODID:-//Fröhliches Frohnhardt e.V. - ECPv6.15.20//NONSGML v1.0//EN
CALSCALE:GREGORIAN
METHOD:PUBLISH
X-WR-CALNAME:Fröhliches Frohnhardt e.V.
X-ORIGINAL-URL:https://froehliches-frohnhardt.de
X-WR-CALDESC:Veranstaltungen für Fröhliches Frohnhardt e.V.
REFRESH-INTERVAL;VALUE=DURATION:PT1H
X-Robots-Tag:noindex
X-PUBLISHED-TTL:PT1H
BEGIN:VTIMEZONE
TZID:Europe/Berlin
BEGIN:DAYLIGHT
TZOFFSETFROM:+0100
TZOFFSETTO:+0200
TZNAME:CEST
DTSTART:20220327T010000
END:DAYLIGHT
BEGIN:STANDARD
TZOFFSETFROM:+0200
TZOFFSETTO:+0100
TZNAME:CET
DTSTART:20221030T010000
END:STANDARD
BEGIN:DAYLIGHT
TZOFFSETFROM:+0100
TZOFFSETTO:+0200
TZNAME:CEST
DTSTART:20230326T010000
END:DAYLIGHT
BEGIN:STANDARD
TZOFFSETFROM:+0200
TZOFFSETTO:+0100
TZNAME:CET
DTSTART:20231029T010000
END:STANDARD
BEGIN:DAYLIGHT
TZOFFSETFROM:+0100
TZOFFSETTO:+0200
TZNAME:CEST
DTSTART:20240331T010000
END:DAYLIGHT
BEGIN:STANDARD
TZOFFSETFROM:+0200
TZOFFSETTO:+0100
TZNAME:CET
DTSTART:20241027T010000
END:STANDARD
END:VTIMEZONE
BEGIN:VEVENT
DTSTART;TZID=Europe/Berlin:20230623T170000
DTEND;TZID=Europe/Berlin:20230623T220000
DTSTAMP:20260425T003550
CREATED:20230625T092201Z
LAST-MODIFIED:20231022T093758Z
UID:394-1687539600-1687557600@froehliches-frohnhardt.de
SUMMARY:"Heimatkaff"-Sonnenuntergangswanderung
DESCRIPTION:„Heimatkaff“ Sonnenuntergangs-wanderung⇐ Hier geht’s direkt zum Beitrag unserer Veranstaltung \nFröhliches Frohnhardt e.V. lädt ein zur: \nHeimatkaff Sonnenuntergangswanderungen am 23.06.2023 um 17:00. Start am Dorfplatz
URL:https://froehliches-frohnhardt.de/event/heimatkaff-sonnenuntergangswanderung
LOCATION:Dorfplatz\, Frohnhardter Str\, Frohnhardt\, 53639\, Deutschland
CATEGORIES:Dorfleben,Vergangene Veranstaltung
ORGANIZER;CN="Fr%C3%B6hliches Frohnhardt e.V.":MAILTO:verein@froehliches-frohnhardt.de
END:VEVENT
END:VCALENDAR